BEGIN:VCALENDAR
VERSION:2.0
PRODID:-//ChamberMaster//Event Calendar 2.0//EN
METHOD:PUBLISH
X-PUBLISHED-TTL:P3D
REFRESH-INTERVAL:P3D
CALSCALE:GREGORIAN
BEGIN:VEVENT
DTSTART:20161105T130000Z
DTEND:20161105T173000Z
X-MICROSOFT-CDO-ALLDAYEVENT:FALSE
SUMMARY:Practical Help for Difficult Behaviors
DESCRIPTION:Mary Anderson will present * What you need to know about children that have behavior issues * How to create an environment that helps children * How to effectively talk to parents about their children's behaviors * How to get the support you need Please call 320- 587-2326 to register
X-ALT-DESC;FMTTYPE=text/html:Mary Anderson will present * What you need to know about children that have behavior issues * How to create an environment that helps children * How to effectively talk to parents about their children&#39\;s behaviors * How to get the support you need Please call 320- 587-2326 to register
LOCATION:CrossPoint Church\, 1215 Roberts Rd SW\, Hutchinson\, MN 55350
UID:e.42.21689
SEQUENCE:3
DTSTAMP:20260421T074008Z
URL:http://hutchinsonchamber.chambermaster.com/events/details/practical-help-for-difficult-behaviors-21689
END:VEVENT

END:VCALENDAR
