BEGIN:VCALENDAR
VERSION:2.0
PRODID:-//ChamberMaster//Event Calendar 2.0//EN
METHOD:PUBLISH
X-PUBLISHED-TTL:P3D
REFRESH-INTERVAL:P3D
CALSCALE:GREGORIAN
BEGIN:VEVENT
DTSTART;VALUE=DATE:20191107
DTEND;VALUE=DATE:20191109
TRANSP:TRANSPARENT
X-MICROSOFT-CDO-ALLDAYEVENT:TRUE
SUMMARY:Fall Frame Show
DESCRIPTION:Help us kick off the Modo and Eco frame lines NEW to the store. Stop in for great savings on a complete pair of glasses with the fall frame show!
X-ALT-DESC;FMTTYPE=text/html:Help us kick off the Modo and Eco frame lines NEW to the store. Stop in for great savings on a complete pair of glasses with the fall frame show!
LOCATION:Midwest Vision Centers- Hutchinson Mall
UID:e.42.29575
SEQUENCE:3
DTSTAMP:20260421T142845Z
URL:http://hutchinsonchamber.chambermaster.com/events/details/fall-frame-show-29575
END:VEVENT

END:VCALENDAR
