BEGIN:VCALENDAR
VERSION:2.0
PRODID:-//ChamberMaster//Event Calendar 2.0//EN
METHOD:PUBLISH
X-PUBLISHED-TTL:P3D
REFRESH-INTERVAL:P3D
CALSCALE:GREGORIAN
BEGIN:VEVENT
DTSTART:20161105T140000Z
DTEND:20161105T190000Z
X-MICROSOFT-CDO-ALLDAYEVENT:FALSE
SUMMARY:Fall Extravaganza
DESCRIPTION:Fall Extravaganza - Sponsored by Harmony River Living Center and Auxiliary\n\n    -No Admission Charge\n\n    -Lunch available onsite at the Harmony River Cafe\n\n    -Drawings for door Prizes\n\nArts\, Crafts\, Baked Goods and Vendors!
X-ALT-DESC;FMTTYPE=text/html:Fall Extravaganza - Sponsored by Harmony River Living Center and Auxiliary<br />\n&nbsp\; &nbsp\; -No Admission Charge<br />\n&nbsp\; &nbsp\; -Lunch available onsite at the Harmony River Cafe<br />\n&nbsp\; &nbsp\; -Drawings for door Prizes<br />\nArts\, Crafts\, Baked Goods and Vendors!
LOCATION:Community Room at Harmony River Living Center 1555 Sherwood St SE Hutchinson\, MN 55350
UID:e.42.21717
SEQUENCE:3
DTSTAMP:20260424T054117Z
URL:http://hutchinsonchamber.chambermaster.com/events/details/fall-extravaganza-21717
END:VEVENT

END:VCALENDAR
