BEGIN:VCALENDAR
VERSION:2.0
PRODID:-//ChamberMaster//Event Calendar 2.0//EN
METHOD:PUBLISH
X-PUBLISHED-TTL:P3D
REFRESH-INTERVAL:P3D
CALSCALE:GREGORIAN
BEGIN:VEVENT
DTSTART:20231006T160000Z
DTEND:20231006T170000Z
X-MICROSOFT-CDO-ALLDAYEVENT:FALSE
SUMMARY:Computer Systems Information Session
DESCRIPTION:Computer and information technology careers are in demand. Computer wizards keep students learning and businesses earning. Explore our program options: Computer Programmer Computer Support Technician Network Administration & Security Web Developer
X-ALT-DESC;FMTTYPE=text/html:Computer and information technology careers are in demand. Computer wizards keep students learning and businesses earning. Explore our program options: Computer Programmer Computer Support Technician Network Administration &amp\; Security Web Developer
LOCATION:Virtual on Zoom
UID:e.42.35054
SEQUENCE:3
DTSTAMP:20260420T145635Z
URL:http://hutchinsonchamber.chambermaster.com/events/details/computer-systems-information-session-35054
END:VEVENT

END:VCALENDAR
